BEGIN:VCALENDAR
VERSION:2.0
PRODID:-// eRoom plugin //NONSGML v1.0//EN
CALSCALE:GREGORIAN
BEGIN:VEVENT
UID:eRoom-1776773099
SUMMARY:Zararlı Yazılım Analizi
LOCATION:
DESCRIPTIONSiber dünyanın en etkili silahları olarak da bilinen zararlı yazılımlar, alınan tüm klasik güvenlik önlemlerini atlatarak sistemler üzerinden bilgi kaçırma, zarar verme ve istihbarat toplama amaçlı kullanılmaktadır.

Bu eğitim ile ağ ortamındaki zararlı yazılımların analizi ve tespit edilmesi konusunda Debian'ın uzmanlığına ve bilgisine sahip olacaksınız.
URL;VALUE=URI:https://wordpress.org/plugins/eroom-zoom-meetings-webinar/
DTSTART:20180130T140000Z
DTEND:20180130T143000Z
DTSTAMP:20260421T120459Z
BEGIN:VALARM
ACTION:DISPLAY
RIGGER;RELATED=START:-PT00H15M00S
BEGIN:VALARM
END:VEVENT
END:VCALENDAR