BEGIN:VCALENDAR
VERSION:2.0
PRODID:-// eRoom plugin //NONSGML v1.0//EN
CALSCALE:GREGORIAN
BEGIN:VEVENT
UID:eRoom-1776772761
SUMMARY:Siber Güvenlik Farkındalık
LOCATION:
DESCRIPTIONGelişen teknoloji ve artan internet kullanımıyla birçok siber güvenlik riski oluşmaktadır. Bu riskleri önleyebilmenin ilk aşaması ortaya çıkabilecek siber güvenlik risklerinin farkında olunmasıdır.

Bu amaçla hazırladığımız “Temel Siber Güvenlik/Bilgi Güvenliği Farkındalık Eğitimi”nde izleyiciler bilgi güvenliğinin temel kavramları, bir günde üretilen sanal bilgi miktarı, siber güvenlik ile ilgili doğru bilinen yanlışlar, siber güvenlik anlamında karşı karşıya olduğumuz tehditler ve bu tehditlere karşı alınabilecek güvenlik önlemlerinden Fiziksel Güvenlik, Parola Güvenliği, Sosyal Mühendislik, E-posta Güvenliği, İnternet Kullanımı, Mobil Cihaz Güvenliği ve Zararlı Yazılımlar hakkında bilgi sahibi olacaklar.
URL;VALUE=URI:https://wordpress.org/plugins/eroom-zoom-meetings-webinar/
DTSTART:20160923T160000Z
DTEND:20160923T173000Z
DTSTAMP:20260421T115921Z
BEGIN:VALARM
ACTION:DISPLAY
RIGGER;RELATED=START:-PT00H15M00S
BEGIN:VALARM
END:VEVENT
END:VCALENDAR