BEGIN:VCALENDAR
VERSION:2.0
PRODID:-// eRoom plugin //NONSGML v1.0//EN
CALSCALE:GREGORIAN
BEGIN:VEVENT
UID:eRoom-1776773015
SUMMARY:Samba DC &#038; Zimbra Mail
LOCATION:
DESCRIPTIONSamba DC ve Zimbra Mail Sistemi hakkındaki eğitimde aşağıdaki konular ele alınacaktır.<br>
Zimbra Mail Sistemi Kurulumu ve Yapılandırması <br>
Yeni Kullanıcı Eklenmesi&Sunucunun İzlenmesi & Mail Kuyruklarının Görüntülenmesi<br>
Postfix Email Sunucuları Arasında Mail Alıp gönderilmesi<br>
Mail Gateway Kurulması ve Devreye Alınması<br><br>
Samba DC Kurulum ve Konfigürasyonu<br>
Samba AD/DS Migration İşlemleri<br>
DNS Yönetimi<br>


URL;VALUE=URI:https://wordpress.org/plugins/eroom-zoom-meetings-webinar/
DTSTART:20190219T110000Z
DTEND:20190219T140000Z
DTSTAMP:20260421T120335Z
BEGIN:VALARM
ACTION:DISPLAY
RIGGER;RELATED=START:-PT00H15M00S
BEGIN:VALARM
END:VEVENT
END:VCALENDAR