BEGIN:VCALENDAR
VERSION:2.0
PRODID:-// eRoom plugin //NONSGML v1.0//EN
CALSCALE:GREGORIAN
BEGIN:VEVENT
UID:eRoom-1776773015
SUMMARY:Linux Sistem Yönetimi
LOCATION:
DESCRIPTIONLinux İşletim sistemleri ücretsiz olması nedeniyle daha az maliyet oluşturduğu için sunucu olarak tercih edilmektedir.
 Linux'un tercih edilme nedenlerinden biri de Üreteceğiniz her hangi bir çözüm için ekstra herhangi bir lisans kısıtlaması ile 
 uğraşmak zorunda kalmazsınız ve çalışan uygulamaların kaynak kodlarını inceleyebilirsiniz.<br>

Linux Yöneticisi olmak için bilinmesi gereken olmazsa olmaz konuları bu eğitimde göreceksiniz. Ayrıca bütün konuların ayrıntılı dökümantasyonu verilecektir. Bu eğitimi Aldığınıza eğitimde anlatılan konularla ilgili sorularınız cevaplanacaktır.Ayrıca Eğitimde işlenen konularla ilgili alıştırmalar cevapları ile birlikte eklidir.<br>

Genel Olarak aşağıdaki konular anlatılacaktır.<br>

Linux Sunucu Kurulumu<br>
Temel Komutlar<br>
Vim Editörü<br>
Linux Dosya Sistemi<br>
Kullanıcı ve Grup Yönetimi<br>
Paket Yönetimi<br>
Bash Scripting(Betik Yazımı)<br>
Süreç yönetimi<br>
Disk Yönetimi<br>
LVM<br>
Ağ Ayarları<br>
Zamanlanmış Görevler(Crontab)<br>
Loglama Sistemi(Rsyslog)<br>
Linux Sistem Açılışı<br>
Linux Sunucu Monitoring ve Yönetimi<br>
Donanım hakkında bilgi edinme.<br>
Çekirdek Modülleri<br>
URL;VALUE=URI:https://wordpress.org/plugins/eroom-zoom-meetings-webinar/
DTSTART:20180613T070000Z
DTEND:20180613T080000Z
DTSTAMP:20260421T120335Z
BEGIN:VALARM
ACTION:DISPLAY
RIGGER;RELATED=START:-PT00H15M00S
BEGIN:VALARM
END:VEVENT
END:VCALENDAR