BEGIN:VCALENDAR
VERSION:2.0
PRODID:-// eRoom plugin //NONSGML v1.0//EN
CALSCALE:GREGORIAN
BEGIN:VEVENT
UID:eRoom-1776940510
SUMMARY:Kuantum Kriptografi
LOCATION:
DESCRIPTIONKuantum kriptografi ya da diğer adıyla kuantum anahtar dağıtımı, güvenlik modelinin anahtar yönü olarak matematiğin aksine daha fazla fiziğe güvenmesi bakımından geleneksel kriptografik sistemlerden farklıdır. Kuantum kriptografi, güvenli iletişimi garanti edebilmek için kuantum mekaniğinin yasalarını kullanır. Haberleşecek iki tarafın, yalnızca kendilerinin bilebileceği rastgele ortak bir bit dizisi üretebilmelerini ve bu bit dizisinin mesajların şifrelenmesinde veya şifrelerinin açılmasında kullanılmasını sağlar. Kuantum kriptografinin önemli bir özelliği, anahtarı ele geçirmeye çalışan üçüncü bir tarafın varlığını, haberleşen iki tarafın tespit edebilmesidir. Bu durum; kuantum fiziğinin, bir kuantum sistemi ölçme sürecinin sistemin bozulmasına neden olduğu ilkesi ile ilintilidir. Anahtarı gizlice dinleyen üçüncü taraf onu bir şekilde ölçmek zorundadır ki bu da sistemde birtakım anormalliklere sebep olur. Eğer gizli dinleme seviyesi belli bir eşik değerin altındaysa anahtar üretilebilir, aksi takdirde güvenli bir anahtar üretmek mümkün değildir ve iletişim durdurulur. Bu kriptografi türünü merak edenlerle buluşuyoruz. 
URL;VALUE=URI:https://wordpress.org/plugins/eroom-zoom-meetings-webinar/
DTSTART:20170717T170000Z
DTEND:20170717T180000Z
DTSTAMP:20260423T103510Z
BEGIN:VALARM
ACTION:DISPLAY
RIGGER;RELATED=START:-PT00H15M00S
BEGIN:VALARM
END:VEVENT
END:VCALENDAR