BEGIN:VCALENDAR
VERSION:2.0
PRODID:-// eRoom plugin //NONSGML v1.0//EN
CALSCALE:GREGORIAN
BEGIN:VEVENT
UID:eRoom-1776774101
SUMMARY:Buluta Geçiş
LOCATION:
DESCRIPTIONKarmaşık uygulamaları Buluta taşımak, kanıtlanmış çerçeveler ve süreçler üzerine kurulu kapsamlı bir strateji, güçlü teknik yürütme ve derinlemesine deneyim gerektirir. Buluta Geçiş hizmetleri ekibimiz, en karmaşık ve zorlu uygulamalarınızı hızlı ve verimli bir şekilde Genel Buluta taşımanıza yardımcı olur. BT altyapınızın ilk değerlendirmesini yaparak üst düzey bir geçiş yol haritası hazırlıyoruz. Bulut sağlayıcı ile tüm hesaplarınızı ve ayrıcalıklarınızı ayarlıyoruz. Sizi en kısa sürede Buluta hazır hale getirebiliriz. 
URL;VALUE=URI:https://wordpress.org/plugins/eroom-zoom-meetings-webinar/
DTSTART:20190817T130000Z
DTEND:20190817T143000Z
DTSTAMP:20260421T122141Z
BEGIN:VALARM
ACTION:DISPLAY
RIGGER;RELATED=START:-PT00H15M00S
BEGIN:VALARM
END:VEVENT
END:VCALENDAR